BEGIN:VCALENDAR
VERSION:2.0
PRODID:-//2SG Tech - ECPv6.3.3.1//NONSGML v1.0//EN
CALSCALE:GREGORIAN
METHOD:PUBLISH
X-WR-CALNAME:2SG Tech
X-ORIGINAL-URL:https://2sgtech.com
X-WR-CALDESC:Events for 2SG Tech
REFRESH-INTERVAL;VALUE=DURATION:PT1H
X-Robots-Tag:noindex
X-PUBLISHED-TTL:PT1H
BEGIN:VTIMEZONE
TZID:UTC
BEGIN:STANDARD
TZOFFSETFROM:+0000
TZOFFSETTO:+0000
TZNAME:UTC
DTSTART:20240101T000000
END:STANDARD
END:VTIMEZONE
BEGIN:VEVENT
DTSTART;VALUE=DATE:20240612
DTEND;VALUE=DATE:20240614
DTSTAMP:20260420T071118
CREATED:20240222T201809Z
LAST-MODIFIED:20240222T201809Z
UID:416-1718150400-1718323199@2sgtech.com
SUMMARY:Bluegrass Annual Meeting & Golf Tournament
DESCRIPTION:
URL:https://2sgtech.com/event/bluegrass-annual-meeting-golf-tournament/
END:VEVENT
END:VCALENDAR